BEGIN:VCALENDAR
VERSION:2.0
PRODID:-//We Love Curves - ECPv6.15.20//NONSGML v1.0//EN
CALSCALE:GREGORIAN
METHOD:PUBLISH
X-WR-CALNAME:We Love Curves
X-ORIGINAL-URL:https://www.welovecurves.be
X-WR-CALDESC:Events for We Love Curves
REFRESH-INTERVAL;VALUE=DURATION:PT1H
X-Robots-Tag:noindex
X-PUBLISHED-TTL:PT1H
BEGIN:VTIMEZONE
TZID:Europe/Brussels
BEGIN:DAYLIGHT
TZOFFSETFROM:+0100
TZOFFSETTO:+0200
TZNAME:CEST
DTSTART:20250330T010000
END:DAYLIGHT
BEGIN:STANDARD
TZOFFSETFROM:+0200
TZOFFSETTO:+0100
TZNAME:CET
DTSTART:20251026T010000
END:STANDARD
BEGIN:DAYLIGHT
TZOFFSETFROM:+0100
TZOFFSETTO:+0200
TZNAME:CEST
DTSTART:20260329T010000
END:DAYLIGHT
BEGIN:STANDARD
TZOFFSETFROM:+0200
TZOFFSETTO:+0100
TZNAME:CET
DTSTART:20261025T010000
END:STANDARD
BEGIN:DAYLIGHT
TZOFFSETFROM:+0100
TZOFFSETTO:+0200
TZNAME:CEST
DTSTART:20270328T010000
END:DAYLIGHT
BEGIN:STANDARD
TZOFFSETFROM:+0200
TZOFFSETTO:+0100
TZNAME:CET
DTSTART:20271031T010000
END:STANDARD
END:VTIMEZONE
BEGIN:VEVENT
DTSTART;TZID=Europe/Brussels:20260524T213000
DTEND;TZID=Europe/Brussels:20260525T210000
DTSTAMP:20260426T032353
CREATED:20260311T161425Z
LAST-MODIFIED:20260312T092345Z
UID:10000101-1779658200-1779742800@www.welovecurves.be
SUMMARY:STAGE | DISCOVERY NÜRBURGRING - NORDSCHLEIFE (DE)
DESCRIPTION:Découvrez le pilotage sur La Nordschleife – NÜRBURGRING au stage Stage Discovery Nürburgring \n\n\n\nINSCRIPTION : Découverte de L’Enfer Vert !\n\n\n\n\n< RETROUVEZ iCi TOUS les Détails du stage Discovery Nürburgring\n\n\n\n\nLa Nordschleife – NÜRBURGRING\, le circuit mythique surnommé Green Hell (l’enfer vert)\, dans l’Eifel allemande.We Love Curves vous accompagne pour découvrir ce monument de 21 km\, et en faire un excellent souvenir \n\n\n\nNos formules pour le Stage de pilotage Discovery NÜrburgring\n\n\n\n\n\n\n\n\n\n\n\n\n\n\n\n\n\n\n\n\n\n\n\n#1 – ALL-IN – SINGLE – 1260€\n\n\n\n\n1 Pilot | 1 Car | 1 day\n\n\n\n1 leading car + 1 coach for 5 cars\n\n\n\n5 laps with commentary – morning\n\n\n\n5 laps with commentary – afternoon\n\n\n\n\nMeals and accommodation\n\n\n\n\n1 Night & Breakfast – Single room\n\n\n\n1 Dinner (pre-event)\n\n\n\n1 Lunch\n\n\n\n\n#2 – ALL-IN – Double – 1400€\n\n\n\n\n1 Pilot | 1 Car | 1 day\n\n\n\n1 Second Pilot or Passenger\n\n\n\n1 leading car + 1 coach for 5 cars\n\n\n\n5 laps with commentary – morning\n\n\n\n5 laps with commentary – afternoon\n\n\n\n\nMeals and accommodation\n\n\n\n\n1 Night & Breakfast – Double room\n\n\n\n2 Dinner (pre-event)\n\n\n\n2 Lunch\n\n\n\n\nOptions\n\n\n\n\n1 lap with individual coach in your car : +149€\n\n\n\n2nd lap (and following) with individual coach in your car: +119€\n\n\n\n1 Dinner (post-event) : +60€\n\n\n\n\nTo be chosen for each pilot\n\n\n\n\nTrack access fee : +30 or 35€ / lap (behind the leading car\, and individual)\n\n\n\n\n\n\n\n\n\n\n\n\n\n\n\n\n\n\n\n\n\n\n\n\nTiming\n\n\n\n24/05/2026 \n\n\n\n19:00 : Welcome20:00 : Dinner – pre-event \n\n\n\n25/05/2026 \n\n\n\n07:00 : Breakfast07:30 : Briefing08:00 : Go To the Track !AM : 5 laps behind leading carAM : individual laps12:00 : LunchPM : 5 laps behind leading carPM : individual laps17:30 Closing Drink19:00 : Dinner – post-event (optional) \n\n\n\nInscription pour rouler au stage de pilotage sur La Nordschleife – NÜRBURGRING.\n\n\n\nInscrivez-vous et découvrez le pilotage avec votre GT sur La Nordschleife au Stage Nürburgring : \n\n\n\n\nINSCRIPTION >\n\n\n\n\nAutres informations ? Appelez-nous ou cliquez ci-dessous : \n\n\n\n\ninformations et réservation Stage Discovery Nürburgring >\n\n\n\n\nÀ bientôt.Philippe THISSEN+32 473 744 585 \n\n\n\nCe stage est organisé avec la collaboration et l’expérience de :\n\n\n\n\n\n\n\n\n\n\n\na \n\n\n\nSuivez Apex sur Instagram : \n\n\n\n@apexmotorsportluxembourg \n\n\n\n\n\n\n\n\n\n\n\n\n\navec la complicité de :
URL:https://www.welovecurves.be/agenda-event/discovery-nurburgring-may-2026/
LOCATION:Nordschleife – NÜRBURGRING\, Otto-Flimm-Straße\, Nürburg\, Eifel\, 53520\, Germany
CATEGORIES:Coaching,Coaching sur circuit,Séjour & circuit,Stage,Stage Discovery Nurburgring
ATTACH;FMTTYPE=image/jpeg:https://www.welovecurves.be/wp-content/uploads/2025/05/WeLoveCurves-Discovery-Nurburgring-01-05-2025-00003-2.jpg
ORGANIZER;CN="We Love Curves":MAILTO:doppio@doppio.be
END:VEVENT
BEGIN:VEVENT
DTSTART;TZID=Europe/Brussels:20260822T210000
DTEND;TZID=Europe/Brussels:20260823T210000
DTSTAMP:20260426T032353
CREATED:20260311T164429Z
LAST-MODIFIED:20260312T092237Z
UID:10000102-1787432400-1787518800@www.welovecurves.be
SUMMARY:STAGE | DISCOVERY NÜRBURGRING - NORDSCHLEIFE (DE)
DESCRIPTION:Découvrez le pilotage sur La Nordschleife – NÜRBURGRING au stage Stage Discovery Nürburgring \n\n\n\nINSCRIPTION : Découverte de L’Enfer Vert !\n\n\n\n\n< RETROUVEZ iCi TOUS les Détails du stage Discovery Nürburgring\n\n\n\n\nLa Nordschleife – NÜRBURGRING\, le circuit mythique surnommé Green Hell (l’enfer vert)\, dans l’Eifel allemande.We Love Curves vous accompagne pour découvrir ce monument de 21 km\, et en faire un excellent souvenir \n\n\n\nNos formules pour le Stage de pilotage Discovery NÜrburgring\n\n\n\n\n\n\n\n\n\n\n\n\n\n\n\n\n\n\n\n\n\n\n\n#1 – ALL-IN – SINGLE – 1260€\n\n\n\n\n1 Pilot | 1 Car | 1 day\n\n\n\n1 leading car + 1 coach for 5 cars\n\n\n\n5 laps with commentary – morning\n\n\n\n5 laps with commentary – afternoon\n\n\n\n\nMeals and accommodation\n\n\n\n\n1 Night & Breakfast – Single room\n\n\n\n1 Dinner (pre-event)\n\n\n\n1 Lunch\n\n\n\n\n#2 – ALL-IN – Double – 1400€\n\n\n\n\n1 Pilot | 1 Car | 1 day\n\n\n\n1 Second Pilot or Passenger\n\n\n\n1 leading car + 1 coach for 5 cars\n\n\n\n5 laps with commentary – morning\n\n\n\n5 laps with commentary – afternoon\n\n\n\n\nMeals and accommodation\n\n\n\n\n1 Night & Breakfast – Double room\n\n\n\n2 Dinner (pre-event)\n\n\n\n2 Lunch\n\n\n\n\nOptions\n\n\n\n\n1 lap with individual coach in your car : +149€\n\n\n\n2nd lap (and following) with individual coach in your car: +119€\n\n\n\n1 Dinner (post-event) : +60€\n\n\n\n\nTo be chosen for each pilot\n\n\n\n\nTrack access fee : +30 or 35€ / lap (behind the leading car\, and individual)\n\n\n\n\n\n\n\n\n\n\n\n\n\n\n\n\n\n\n\n\n\n\n\n\nTiming\n\n\n\n22/08/2026 \n\n\n\n19:00 : Welcome20:00 : Dinner – pre-event \n\n\n\n23/08/2026 \n\n\n\n07:00 : Breakfast07:30 : Briefing08:00 : Go To the Track !AM : 5 laps behind leading carAM : individual laps12:00 : LunchPM : 5 laps behind leading carPM : individual laps17:30 Closing Drink19:00 : Dinner – post-event (optional) \n\n\n\nInscription pour rouler au stage de pilotage sur La Nordschleife – NÜRBURGRING.\n\n\n\nInscrivez-vous et découvrez le pilotage avec votre GT sur La Nordschleife au Stage Nürburgring : \n\n\n\n\nINSCRIPTION >\n\n\n\n\nAutres informations ? Appelez-nous ou cliquez ci-dessous : \n\n\n\n\ninformations et réservation Stage Discovery Nürburgring >\n\n\n\n\nÀ bientôt.Philippe THISSEN+32 473 744 585 \n\n\n\nCe stage est organisé avec la collaboration et l’expérience de :\n\n\n\n\n\n\n\n\n\n\n\na \n\n\n\nSuivez Apex sur Instagram : \n\n\n\n@apexmotorsportluxembourg \n\n\n\n\n\n\n\n\n\n\n\n\n\navec la complicité de :
URL:https://www.welovecurves.be/agenda-event/stage-discovery-nurburgring-nordschleife-de/
LOCATION:Nordschleife – NÜRBURGRING\, Otto-Flimm-Straße\, Nürburg\, Eifel\, 53520\, Germany
CATEGORIES:Coaching,Coaching sur circuit,Séjour & circuit,Stage,Stage Discovery Nurburgring
ATTACH;FMTTYPE=image/jpeg:https://www.welovecurves.be/wp-content/uploads/2025/05/WeLoveCurves-Discovery-Nurburgring-01-05-2025-00016.jpg
ORGANIZER;CN="We Love Curves":MAILTO:doppio@doppio.be
END:VEVENT
END:VCALENDAR